Workbook
Name Conso: #REF!
Name Correc: #REF!
Name DJU: Déperditions!$B$28
Name DT: Déperditions!$B$27
Name ECS_nbpers: #REF!
Name GV: Déperditions!$B$37
Name Hauteur_ss_plafond: #REF!
Name litres_pers_j: #REF!
Name PCS_PCI: #REF!
Name Pgen: #REF!
Name R_géné: #REF!
Name Surface_habitable: #REF!
Name Surface_totale_ext: Architecture!$B$18
Name Tbase: #REF!
Name Temp: #REF!
Name Vol_ECS: #REF!
Name Volume_hab: Architecture!$B$16

Sheet Architecture
A1: Mesures maison
A2: Longueur int | B2: =B7-0.7 -> 8.64
A3: Largeur int | B3: =B8-0.7 -> 9.84
A4: Surface int RdC | B4: =B2*B3+2.96-1.93*1.12 -> 85.816
A5: Surface int étage | B5: 90.3
A6: Surface calculée | B6: =B4+B5 -> 176.116
A7: Longueur ext | B7: 9.34
A8: Largeur ext | B8: 10.54
A9: Périm ext bas | B9: =2*(B7+B8)+2 -> 41.76
A10: Périm ext haut | B10: =2*(B7+B8)+2+0.75 -> 42.51
A11: Surface ext RdC | B11: =B7*B8+3.66 -> 102.1036
A12: Surface ext étage | B12: =B11+2.1*0.75 -> 103.6786
A13: Hauteur ss plafond | B13: 2.7
A14: Hauteur bâtiment | B14: 5.85
A15: Surface habitable | B15: 160
A16: Volume habitable | B16: =B13*B15 -> 432
A17: Surface verticale ext | B17: =B10*B14 -> 248.6835
A18: Surface totale ext | B18: =B17+B11+B12 -> 454.4657
A19: Surface ouvertures | B19: =SUM(B23:B26) -> 43.041 | C19: =B19/B17 -> 0.17307542
A20: Surface murs ext | B20: =B17-B19 -> 205.6425
A22: Surface ouvertures
A23: Total PVC | B23: =SUMIF($A$31:$A$38,"pvc",$F$31:$F$38) -> 26.58
A24: Total Alu | B24: =SUMIF($A$31:$A$38,"alu",$F$31:$F$38) -> 10.8
A25: Total Bois vitré | B25: =SUMIF($A$31:$A$38,"bois vitré",$F$31:$F$38) -> 1.701
A26: Total Bois plein | B26: =SUMIF($A$31:$A$38,"bois plein",$F$31:$F$38) -> 3.96
A27: Ratio ouverture | B27: =B17/B19 -> 5.7778281
A29: Détail ouvertures
A30: Matière | B30: nb | C30: l | D30: h | E30: surf unitaire | F30: surf
A31: pvc | B31: 1 | C31: 110 | D31: 125 | E31: =C31*D31/10000 -> 1.375 | F31: =E31*B31 -> 1.375
A32: pvc | B32: 8 | C32: 110 | D32: 225 | E32: =C32*D32/10000 -> 2.475 | F32: =E32*B32 -> 19.8
A33: pvc | B33: 6 | C33: 70 | D33: 115 | E33: =C33*D33/10000 -> 0.805 | F33: =E33*B33 -> 4.83
A34: pvc | B34: 1 | C34: 50 | D34: 115 | E34: =C34*D34/10000 -> 0.575 | F34: =E34*B34 -> 0.575
A35: alu | B35: 2 | C35: 240 | D35: 225 | E35: =C35*D35/10000 -> 5.4 | F35: =E35*B35 -> 10.8
A36: bois plein | B36: 1 | C36: 83 | D36: 225 | E36: =C36*D36/10000 -> 1.8675 | F36: =E36*B36 -> 1.8675
A37: bois plein | B37: 1 | C37: 93 | D37: 225 | E37: =C37*D37/10000 -> 2.0925 | F37: =E37*B37 -> 2.0925
A38: bois vitré | B38: 1 | C38: 81 | D38: 210 | E38: =C38*D38/10000 -> 1.701 | F38: =E38*B38 -> 1.701

Sheet Déperditions
A1: Déperditions surfaciques
A2: Eléments | B2: U W/m2.K | C2: Surface | D2: Déper W/K | E2: Bases de calcul
A3: Murs | B3: =I3 -> 0.32786885 | C3: =Architecture!B20 -> 205.6425 | D3: =B3*C3 -> 67.42377 | E3: U mur nu 2,5 / R Placomur 2,65 | H3: Umur | I3: =1/(1/2.5+2.65) -> 0.32786885
A4: Combles | B4: 0.14 | C4: 80 | D4: =B4*C4 -> 11.2 | E4: U placo 2,5 / lambda roche 0,044 | H4: R roche | I4: 4.58 | J4: Uph | K4: =1/(1/2.5+I4) -> 0.20080321
A5: Plancher | B5: =M5 -> 0.35 | C5: 80 | D5: =B5*C5 -> 28 | E5: U dalle 2 / R isolant 1,05 | H5: Upb | I5: =1/(1/2+1.05) -> 0.64516129 | J5: 2S/P | K5: =2*Architecture!B4/(Architecture!B9-4*0.7) -> 4.4053388 | L5: Ue | M5: 0.35
A6: Vitrage PVC | B6: =K6 -> 2.4 | C6: =Architecture!B23 -> 26.58 | D6: =B6*C6 -> 63.792 | E6: Ep lame air 8 / Ug=3,0 | H6: Uw | I6: 2.9 | J6: Ujn | K6: 2.4
A7: Vitrage Alu | B7: =K7 -> 2.8 | C7: =Architecture!B24 -> 10.8 | D7: =B7*C7 -> 30.24 | E7: Ep lame air 8 / Ug=3,0 | H7: Uw | I7: 3.5 | J7: Ujn | K7: 2.8
A8: Portes bois vitré | B8: =I8 -> 3.1 | C8: =Architecture!B25 -> 1.701 | D8: =B8*C8 -> 5.2731 | E8: Ep lame air 8 / Ug=3,0 | H8: Uw | I8: 3.1
A9: Portes bois plein | B9: 2 | C9: 2 | D9: =B9*C9 -> 4 | E9: Porte pleine isolée | H9: U | I9: 3.5
A11: Ponts thermiques
A12: Eléments | B12: K W/m.K | C12: Longueur | D12: Déper W/K | E12: Bases de calcul
A13: Plancher bas / mur | B13: 0.08 | C13: =Architecture!B9 -> 41.76 | D13: =B13*C13 -> 3.3408 | E13: Mur ext et plancher bas ITI
A14: Plancher inter / mur | B14: 0.74 | C14: =Architecture!B10 -> 42.51 | D14: =B14*C14 -> 31.4574 | E14: Mur ext ITI | N14: 0,92 dans JO | P14: =0.05*160 -> 8
A15: Plancher haut / mur | B15: 0 | C15: 0 | D15: =B15*C15 -> 0 | E15: Négligé
A16: Refend / mur | B16: 0.82 | C16: 6.55 | D16: =B16*C16 -> 5.371 | E16: Mur ext ITI / refend 3,5 + refend 3,05
A17: Menuiserie / mur | B17: 0 | C17: 0 | D17: =B17*C17 -> 0 | E17: Nu intérieur
A19: Ventilation
A20: Hvent | B20: 70
A21: Hperm | B21: 70
A22: DR | B22: =B20+B21 -> 140 | C22: W/K | D22: =B22/0.34 -> 411.76471 | E22: m3/h
A24: Synthèse Déperditions
A25: Température choisie °C | B25: 21 | C25: 19° conventionnelle / 21°C dépensière
A26: Tbase | B26: -5
A27: Delta T | B27: =B25-B26 -> 26
A28: DJU 18°C (apports) | B28: 1500
A29: DJU 21°C | B29: 2250
A30: Eléments | B30: W/K | C30: kW | D30: % | E30: kWh
A31: Murs hors ponts thermiques | B31: =D3 -> 67.42377 | C31: =B31*DT/1000 -> 1.753018 | D31: =B31/$B$37 -> 0.172838 | E31: =B31*24*DJU/1000 -> 2427.2557
A32: Murs avec ponts thermiques | B32: =B31+SUM(D13:D17) -> 107.59297 | C32: =B32*DT/1000 -> 2.7974172 | D32: =B32/$B$37 -> 0.27581006 | E32: =B32*24*DJU/1000 -> 3873.3469
A33: Combles | B33: =D4 -> 11.2 | C33: =B33*DT/1000 -> 0.2912 | D33: =B33/$B$37 -> 0.028710729 | E33: =B33*24*DJU/1000 -> 403.2
A34: Plancher | B34: =D5 -> 28 | C34: =B34*DT/1000 -> 0.728 | D34: =B34/$B$37 -> 0.071776823 | E34: =B34*24*DJU/1000 -> 1008
A35: Ouvertures | B35: =SUM(D6:D9) -> 103.3051 | C35: =B35*DT/1000 -> 2.6859326 | D35: =B35/$B$37 -> 0.26481828 | E35: =B35*24*DJU/1000 -> 3718.9836
A36: Ventilation | B36: =B22 -> 140 | C36: =B36*DT/1000 -> 3.64 | D36: =B36/$B$37 -> 0.35888411 | E36: =B36*24*DJU/1000 -> 5040
A37: GV (total) | B37: =B32+B33+B34+B35+B36 -> 390.09807 | C37: =B37*DT/1000 -> 10.14255 | E37: =B37*24*DJU/1000 -> 14043.531 | F37: kWh PCI
