Workbook
Name Altitude: Calculs!#REF!
Name decl_magn: Calculs!$B$8
Name eq_tps_L: 'decallage heure'!$B$11
Name H_ete_debut: 'decallage heure'!$D$17
Name H_ete_decallage: 'decallage heure'!$B$13
Name H_ete_Fin: 'decallage heure'!$D$18
Name H_hivers_decallage: 'decallage heure'!$B$12
Name H_legale_Ok: 'decallage heure'!$B$26
Name incl_axe: 'inclinaison terre'!$B$3
Name jours_annee_siderale: Paramêtres!$B$3
Name k_atm: Paramêtres!$E$6
Name Lat_radian: Calculs!$C$5
Name Latitude: Calculs!$B$5
Name Longitude: Calculs!$B$6
Name Va: Paramêtres!$B$4
Name Va_rad: Paramêtres!$E$4
Name Ville_ref: Calculs!$A$3

Sheet Calculs
A1: ↓ Saisie Guidée ↓ | C1: ↓ Saisie Manuelle ↓
B2: choix | C2: Latitude | D2: Longitude | E2: Altitude
A3: Cercle Arctique | B3: <= ou => | E3: X
A4: jour du mois: | B4: et => | C4: 21
A5: Latitude du lieu F | B5: =IF( OR(Ville_ref="villes",Ville_ref=0),C3,VLOOKUP(A3,'Villes-Géo'!C:D,2,FALSE)) -> 66.56278 | C5: =RADIANS(B5) -> 1.1617397 | D5: radian | E5: Déclinaison | G5: Air Mass | H5: Jour | I5: =IF(H_legale_Ok="Ok", "Heure légale", "Heure solaire moyenne") -> Heure solaire moyenne | P5: int | Q5: B | R5: E | S5: D
A6: longitude: | B6: =IF(OR(Ville_ref="villes",Ville_ref=0),D3,VLOOKUP(Ville_ref,'Villes-Géo'!C:G,4,FALSE)) -> ? | C6: jour | D6: 0 | E6: Date | F6: d | G6: /atm | H6: heures | I6: lever | J6: couché | K6: midi
A7: altitude: | C7: =IF(C4>0,C4,15) -> 21 | D7: =RADIANS(F7) -> -0.34605956 | E7: =DATE(1,1,C7) -> 387 | F7: =DEGREES(ASIN(0.3978*SIN(Va_rad*(C7-(81-2*SIN(Va_rad*(C7-2))))))) -> -19.827752 | G7: =IF(J23<0,"nuit",-k_atm*SIN(RADIANS(J23))+SQRT((1+2*k_atm+(k_atm*SIN(RADIANS(J23)))^2))) -> 13.770337 | H7: =IF(P7>1,"nuit",IF(P7<-1,">24h",24/PI()*ACOS(P7))) -> 4.4962268 | I7: =IF(OR(H7=">24h",H7="nuit"),"non",K7-H7/48) -> 0.41411225 | J7: =IF(OR(H7=">24h",H7="nuit"),"non",K7+H7/48) -> 0.60145504 | K7: =IF(P7>1,"nuit",IF(H_legale_Ok="Ok",0.5+(S7+R7)/1440, 0.5+R7/1440)) -> 0.50778364 | P7: =-TAN(D7)*TAN(Lat_radian) -> 0.83174391 | Q7: =2*PI()*(C7-81)/364 -> -1.0356899 | R7: =-9.87*SIN(2*Q7)+7.53*COS(Q7)+1.5*SIN(Q7) -> 11.208449 | S7: =IF(AND(C7>H_ete_debut,C7<H_ete_Fin),H_ete_decallage,H_hivers_decallage) -> ?
A8: déclinaison magnétique | B8: =VLOOKUP(Ville_ref,'Villes-Géo'!C:Q,10,FALSE) -> 0 | C8: =C7+31 -> 52 | D8: =RADIANS(F8) -> -0.18215124 | E8: =DATE(1,1,C8) -> 418 | F8: =DEGREES(ASIN(0.3978*SIN(Va_rad*(C8-(81-2*SIN(Va_rad*(C8-2))))))) -> -10.436497 | G8: =IF(J24<0,"nuit",-k_atm*SIN(RADIANS(J24))+SQRT((1+2*k_atm+(k_atm*SIN(RADIANS(J24)))^2))) -> 4.3879192 | H8: =IF(P8>1,"nuit",IF(P8<-1,">24h",24/PI()*ACOS(P8))) -> 8.6475307 | I8: =IF(OR(H8=">24h",H8="nuit"),"non",K8-H8/48) -> 0.32970264 | J8: =IF(OR(H8=">24h",H8="nuit"),"non",K8+H8/48) -> 0.69001642 | K8: =IF(P8>1,"nuit",IF(H_legale_Ok="Ok",0.5+(S8+R8)/1440, 0.5+R8/1440)) -> 0.50985953 | P8: =-TAN(D8)*TAN(Lat_radian) -> 0.42488714 | Q8: =2*PI()*(C8-81)/364 -> -0.50058344 | R8: =-9.87*SIN(2*Q8)+7.53*COS(Q8)+1.5*SIN(Q8) -> 14.197719 | S8: =IF(AND(C8>H_ete_debut,C8<H_ete_Fin),H_ete_decallage,H_hivers_decallage) -> ?
B9: =VLOOKUP(Ville_ref,'Villes-Géo'!C:Q,12,FALSE) -> 0 | C9: =C8+28 -> 80 | D9: =RADIANS(F9) -> 0.0064853794 | E9: =DATE(1,1,C9) -> 446 | F9: =DEGREES(ASIN(0.3978*SIN(Va_rad*(C9-(81-2*SIN(Va_rad*(C9-2))))))) -> 0.37158487 | G9: =IF(J25<0,"nuit",-k_atm*SIN(RADIANS(J25))+SQRT((1+2*k_atm+(k_atm*SIN(RADIANS(J25)))^2))) -> 2.4682732 | H9: =IF(P9>1,"nuit",IF(P9<-1,">24h",24/PI()*ACOS(P9))) -> 12.114293 | I9: =IF(OR(H9=">24h",H9="nuit"),"non",K9-H9/48) -> 0.25306588 | J9: =IF(OR(H9=">24h",H9="nuit"),"non",K9+H9/48) -> 0.75782809 | K9: =IF(P9>1,"nuit",IF(H_legale_Ok="Ok",0.5+(S9+R9)/1440, 0.5+R9/1440)) -> 0.50544699 | P9: =-TAN(D9)*TAN(Lat_radian) -> -0.014960367 | Q9: =2*PI()*(C9-81)/364 -> -0.017261498 | R9: =-9.87*SIN(2*Q9)+7.53*COS(Q9)+1.5*SIN(Q9) -> 7.8436615 | S9: =IF(AND(C9>H_ete_debut,C9<H_ete_Fin),H_ete_decallage,H_hivers_decallage) -> ?
C10: =C9+31 -> 111 | D10: =RADIANS(F10) -> 0.20906744 | E10: =DATE(1,1,C10) -> 477 | F10: =DEGREES(ASIN(0.3978*SIN(Va_rad*(C10-(81-2*SIN(Va_rad*(C10-2))))))) -> 11.978682 | G10: =IF(J26<0,"nuit",-k_atm*SIN(RADIANS(J26))+SQRT((1+2*k_atm+(k_atm*SIN(RADIANS(J26)))^2))) -> 1.7232058 | H10: =IF(P10>1,"nuit",IF(P10<-1,">24h",24/PI()*ACOS(P10))) -> 15.906979 | I10: =IF(OR(H10=">24h",H10="nuit"),"non",K10-H10/48) -> 0.16776774 | J10: =IF(OR(H10=">24h",H10="nuit"),"non",K10+H10/48) -> 0.83055854 | K10: =IF(P10>1,"nuit",IF(H_legale_Ok="Ok",0.5+(S10+R10)/1440, 0.5+R10/1440)) -> 0.49916314 | P10: =-TAN(D10)*TAN(Lat_radian) -> -0.48941813 | Q10: =2*PI()*(C10-81)/364 -> 0.51784494 | R10: =-9.87*SIN(2*Q10)+7.53*COS(Q10)+1.5*SIN(Q10) -> -1.2050761 | S10: =IF(AND(C10>H_ete_debut,C10<H_ete_Fin),H_ete_decallage,H_hivers_decallage) -> ?
C11: =C10+30 -> 141 | D11: =RADIANS(F11) -> 0.35347735 | E11: =DATE(1,1,C11) -> 507 | F11: =DEGREES(ASIN(0.3978*SIN(Va_rad*(C11-(81-2*SIN(Va_rad*(C11-2))))))) -> 20.25276 | G11: =IF(J27<0,"nuit",-k_atm*SIN(RADIANS(J27))+SQRT((1+2*k_atm+(k_atm*SIN(RADIANS(J27)))^2))) -> 1.4465733 | H11: =IF(P11>1,"nuit",IF(P11<-1,">24h",24/PI()*ACOS(P11))) -> 19.777997 | I11: =IF(OR(H11=">24h",H11="nuit"),"non",K11-H11/48) -> 0.085507803 | J11: =IF(OR(H11=">24h",H11="nuit"),"non",K11+H11/48) -> 0.909591 | K11: =IF(P11>1,"nuit",IF(H_legale_Ok="Ok",0.5+(S11+R11)/1440, 0.5+R11/1440)) -> 0.4975494 | P11: =-TAN(D11)*TAN(Lat_radian) -> -0.85113171 | Q11: =2*PI()*(C11-81)/364 -> 1.0356899 | R11: =-9.87*SIN(2*Q11)+7.53*COS(Q11)+1.5*SIN(Q11) -> -3.5288635 | S11: =IF(AND(C11>H_ete_debut,C11<H_ete_Fin),H_ete_decallage,H_hivers_decallage) -> ?
C12: =C11+31 -> 172 | D12: =RADIANS(F12) -> 0.40911683 | E12: =DATE(1,1,C12) -> 538 | F12: =DEGREES(ASIN(0.3978*SIN(Va_rad*(C12-(81-2*SIN(Va_rad*(C12-2))))))) -> 23.440667 | G12: =IF(J28<0,"nuit",-k_atm*SIN(RADIANS(J28))+SQRT((1+2*k_atm+(k_atm*SIN(RADIANS(J28)))^2))) -> 1.3692079 | H12: =IF(P12>1,"nuit",IF(P12<-1,">24h",24/PI()*ACOS(P12))) -> >24h | I12: =IF(OR(H12=">24h",H12="nuit"),"non",K12-H12/48) -> non | J12: =IF(OR(H12=">24h",H12="nuit"),"non",K12+H12/48) -> non | K12: =IF(P12>1,"nuit",IF(H_legale_Ok="Ok",0.5+(S12+R12)/1440, 0.5+R12/1440)) -> 0.50104167 | P12: =-TAN(D12)*TAN(Lat_radian) -> -1.0001649 | Q12: =2*PI()*(C12-81)/364 -> 1.5707963 | R12: =-9.87*SIN(2*Q12)+7.53*COS(Q12)+1.5*SIN(Q12) -> 1.5 | S12: =IF(AND(C12>H_ete_debut,C12<H_ete_Fin),H_ete_decallage,H_hivers_decallage) -> ?
C13: =C12+30 -> 202 | D13: =RADIANS(F13) -> 0.3565047 | E13: =DATE(1,1,C13) -> 568 | F13: =DEGREES(ASIN(0.3978*SIN(Va_rad*(C13-(81-2*SIN(Va_rad*(C13-2))))))) -> 20.426215 | G13: =IF(J29<0,"nuit",-k_atm*SIN(RADIANS(J29))+SQRT((1+2*k_atm+(k_atm*SIN(RADIANS(J29)))^2))) -> 1.4420235 | H13: =IF(P13>1,"nuit",IF(P13<-1,">24h",24/PI()*ACOS(P13))) -> 19.895046 | I13: =IF(OR(H13=">24h",H13="nuit"),"non",K13-H13/48) -> 0.089732534 | J13: =IF(OR(H13=">24h",H13="nuit"),"non",K13+H13/48) -> 0.91869279 | K13: =IF(P13>1,"nuit",IF(H_legale_Ok="Ok",0.5+(S13+R13)/1440, 0.5+R13/1440)) -> 0.50421266 | P13: =-TAN(D13)*TAN(Lat_radian) -> -0.85907467 | Q13: =2*PI()*(C13-81)/364 -> 2.0886413 | R13: =-9.87*SIN(2*Q13)+7.53*COS(Q13)+1.5*SIN(Q13) -> 6.0662315 | S13: =IF(AND(C13>H_ete_debut,C13<H_ete_Fin),H_ete_decallage,H_hivers_decallage) -> ?
C14: =C13+31 -> 233 | D14: =RADIANS(F14) -> 0.21025226 | E14: =DATE(1,1,C14) -> 599 | F14: =DEGREES(ASIN(0.3978*SIN(Va_rad*(C14-(81-2*SIN(Va_rad*(C14-2))))))) -> 12.046567 | G14: =IF(J30<0,"nuit",-k_atm*SIN(RADIANS(J30))+SQRT((1+2*k_atm+(k_atm*SIN(RADIANS(J30)))^2))) -> 1.7203524 | H14: =IF(P14>1,"nuit",IF(P14<-1,">24h",24/PI()*ACOS(P14))) -> 15.932029 | I14: =IF(OR(H14=">24h",H14="nuit"),"non",K14-H14/48) -> 0.16995085 | J14: =IF(OR(H14=">24h",H14="nuit"),"non",K14+H14/48) -> 0.8337854 | K14: =IF(P14>1,"nuit",IF(H_legale_Ok="Ok",0.5+(S14+R14)/1440, 0.5+R14/1440)) -> 0.50186813 | P14: =-TAN(D14)*TAN(Lat_radian) -> -0.49227496 | Q14: =2*PI()*(C14-81)/364 -> 2.6237477 | R14: =-9.87*SIN(2*Q14)+7.53*COS(Q14)+1.5*SIN(Q14) -> 2.6901025 | S14: =IF(AND(C14>H_ete_debut,C14<H_ete_Fin),H_ete_decallage,H_hivers_decallage) -> ?
C15: =C14+31 -> 264 | D15: =RADIANS(F15) -> 0.010852743 | E15: =DATE(1,1,C15) -> 630 | F15: =DEGREES(ASIN(0.3978*SIN(Va_rad*(C15-(81-2*SIN(Va_rad*(C15-2))))))) -> 0.62181637 | G15: =IF(J31<0,"nuit",-k_atm*SIN(RADIANS(J31))+SQRT((1+2*k_atm+(k_atm*SIN(RADIANS(J31)))^2))) -> 2.4443085 | H15: =IF(P15>1,"nuit",IF(P15<-1,">24h",24/PI()*ACOS(P15))) -> 12.191278 | I15: =IF(OR(H15=">24h",H15="nuit"),"non",K15-H15/48) -> 0.2405321 | J15: =IF(OR(H15=">24h",H15="nuit"),"non",K15+H15/48) -> 0.748502 | K15: =IF(P15>1,"nuit",IF(H_legale_Ok="Ok",0.5+(S15+R15)/1440, 0.5+R15/1440)) -> 0.49451705 | P15: =-TAN(D15)*TAN(Lat_radian) -> -0.025035561 | Q15: =2*PI()*(C15-81)/364 -> 3.1588542 | R15: =-9.87*SIN(2*Q15)+7.53*COS(Q15)+1.5*SIN(Q15) -> -7.8954435 | S15: =IF(AND(C15>H_ete_debut,C15<H_ete_Fin),H_ete_decallage,H_hivers_decallage) -> ?
C16: =C15+30 -> 294 | D16: =RADIANS(F16) -> -0.18821978 | E16: =DATE(1,1,C16) -> 660 | F16: =DEGREES(ASIN(0.3978*SIN(Va_rad*(C16-(81-2*SIN(Va_rad*(C16-2))))))) -> -10.784199 | G16: =IF(J32<0,"nuit",-k_atm*SIN(RADIANS(J32))+SQRT((1+2*k_atm+(k_atm*SIN(RADIANS(J32)))^2))) -> 4.50315 | H16: =IF(P16>1,"nuit",IF(P16<-1,">24h",24/PI()*ACOS(P16))) -> 8.5247811 | I16: =IF(OR(H16=">24h",H16="nuit"),"non",K16-H16/48) -> 0.31135783 | J16: =IF(OR(H16=">24h",H16="nuit"),"non",K16+H16/48) -> 0.66655704 | K16: =IF(P16>1,"nuit",IF(H_legale_Ok="Ok",0.5+(S16+R16)/1440, 0.5+R16/1440)) -> 0.48895744 | P16: =-TAN(D16)*TAN(Lat_radian) -> 0.43937706 | Q16: =2*PI()*(C16-81)/364 -> 3.6766991 | R16: =-9.87*SIN(2*Q16)+7.53*COS(Q16)+1.5*SIN(Q16) -> -15.901291 | S16: =IF(AND(C16>H_ete_debut,C16<H_ete_Fin),H_ete_decallage,H_hivers_decallage) -> ?
C17: =C16+31 -> 325 | D17: =RADIANS(F17) -> -0.34863823 | E17: =DATE(1,1,C17) -> 691 | F17: =DEGREES(ASIN(0.3978*SIN(Va_rad*(C17-(81-2*SIN(Va_rad*(C17-2))))))) -> -19.975499 | G17: =IF(J33<0,"nuit",-k_atm*SIN(RADIANS(J33))+SQRT((1+2*k_atm+(k_atm*SIN(RADIANS(J33)))^2))) -> 14.212665 | H17: =IF(P17>1,"nuit",IF(P17<-1,">24h",24/PI()*ACOS(P17))) -> 4.4027861 | I17: =IF(OR(H17=">24h",H17="nuit"),"non",K17-H17/48) -> 0.39907986 | J17: =IF(OR(H17=">24h",H17="nuit"),"non",K17+H17/48) -> 0.58252928 | K17: =IF(P17>1,"nuit",IF(H_legale_Ok="Ok",0.5+(S17+R17)/1440, 0.5+R17/1440)) -> 0.49080457 | P17: =-TAN(D17)*TAN(Lat_radian) -> 0.83847188 | Q17: =2*PI()*(C17-81)/364 -> 4.2118055 | R17: =-9.87*SIN(2*Q17)+7.53*COS(Q17)+1.5*SIN(Q17) -> -13.241419 | S17: =IF(AND(C17>H_ete_debut,C17<H_ete_Fin),H_ete_decallage,H_hivers_decallage) -> ?
C18: =C17+30 -> 355 | D18: =RADIANS(F18) -> -0.40910935 | E18: =DATE(1,1,C18) -> 721 | F18: =DEGREES(ASIN(0.3978*SIN(Va_rad*(C18-(81-2*SIN(Va_rad*(C18-2))))))) -> -23.440239 | G18: =IF(J34<0,"nuit",-k_atm*SIN(RADIANS(J34))+SQRT((1+2*k_atm+(k_atm*SIN(RADIANS(J34)))^2))) -> nuit | H18: =IF(P18>1,"nuit",IF(P18<-1,">24h",24/PI()*ACOS(P18))) -> nuit | I18: =IF(OR(H18=">24h",H18="nuit"),"non",K18-H18/48) -> non | J18: =IF(OR(H18=">24h",H18="nuit"),"non",K18+H18/48) -> non | K18: =IF(P18>1,"nuit",IF(H_legale_Ok="Ok",0.5+(S18+R18)/1440, 0.5+R18/1440)) -> nuit | P18: =-TAN(D18)*TAN(Lat_radian) -> 1.0001444 | Q18: =2*PI()*(C18-81)/364 -> 4.7296505 | R18: =-9.87*SIN(2*Q18)+7.53*COS(Q18)+1.5*SIN(Q18) -> -1.0291296 | S18: =IF(AND(C18>H_ete_debut,C18<H_ete_Fin),H_ete_decallage,H_hivers_decallage) -> ?
A21: heures solaires vraies | B21: 4 | C21: 5 | D21: 6 | E21: 7 | F21: 8 | G21: 9 | H21: 10 | I21: 11 | J21: 12 | K21: 13 | L21: 14 | M21: 15 | N21: 16 | O21: 17 | P21: 18 | Q21: 19 | R21: 20
A22: angle solaire | B22: =(B21-12)*15 -> -120 | C22: =(C21-12)*15 -> -105 | D22: =(D21-12)*15 -> -90 | E22: =(E21-12)*15 -> -75 | F22: =(F21-12)*15 -> -60 | G22: =(G21-12)*15 -> -45 | H22: =(H21-12)*15 -> -30 | I22: =(I21-12)*15 -> -15 | ... R22: =(R21-12)*15 -> 120
A23: =E7 -> 387 | B23: =DEGREES(ASIN(SIN($C$5)*SIN($D7)+COS($C$5)*COS($D7)*COS(RADIANS(B$22)))) -> -29.887006 | C23: =DEGREES(ASIN(SIN($C$5)*SIN($D7)+COS($C$5)*COS($D7)*COS(RADIANS(C$22)))) -> -24.082385 | D23: =DEGREES(ASIN(SIN($C$5)*SIN($D7)+COS($C$5)*COS($D7)*COS(RADIANS(D$22)))) -> -18.132102 | E23: =DEGREES(ASIN(SIN($C$5)*SIN($D7)+COS($C$5)*COS($D7)*COS(RADIANS(E$22)))) -> -12.378456 | F23: =DEGREES(ASIN(SIN($C$5)*SIN($D7)+COS($C$5)*COS($D7)*COS(RADIANS(F$22)))) -> -7.1303296 | G23: =DEGREES(ASIN(SIN($C$5)*SIN($D7)+COS($C$5)*COS($D7)*COS(RADIANS(G$22)))) -> -2.6729452 | H23: =DEGREES(ASIN(SIN($C$5)*SIN($D7)+COS($C$5)*COS($D7)*COS(RADIANS(H$22)))) -> 0.73494811 | I23: =DEGREES(ASIN(SIN($C$5)*SIN($D7)+COS($C$5)*COS($D7)*COS(RADIANS(I$22)))) -> 2.877807 | ... R23: =DEGREES(ASIN(SIN($C$5)*SIN($D7)+COS($C$5)*COS($D7)*COS(RADIANS(R$22)))) -> -29.887006 | S23: HAUTEURS
A24: =E8 -> 418 | B24: =DEGREES(ASIN(SIN($C$5)*SIN($D8)+COS($C$5)*COS($D8)*COS(RADIANS(B$22)))) -> -21.209699 | C24: =DEGREES(ASIN(SIN($C$5)*SIN($D8)+COS($C$5)*COS($D8)*COS(RADIANS(C$22)))) -> -15.512056 | D24: =DEGREES(ASIN(SIN($C$5)*SIN($D8)+COS($C$5)*COS($D8)*COS(RADIANS(D$22)))) -> -9.5669798 | E24: =DEGREES(ASIN(SIN($C$5)*SIN($D8)+COS($C$5)*COS($D8)*COS(RADIANS(E$22)))) -> -3.7245467 | F24: =DEGREES(ASIN(SIN($C$5)*SIN($D8)+COS($C$5)*COS($D8)*COS(RADIANS(F$22)))) -> 1.6836745 | G24: =DEGREES(ASIN(SIN($C$5)*SIN($D8)+COS($C$5)*COS($D8)*COS(RADIANS(G$22)))) -> 6.3380351 | H24: =DEGREES(ASIN(SIN($C$5)*SIN($D8)+COS($C$5)*COS($D8)*COS(RADIANS(H$22)))) -> 9.9365412 | I24: =DEGREES(ASIN(SIN($C$5)*SIN($D8)+COS($C$5)*COS($D8)*COS(RADIANS(I$22)))) -> 12.218171 | ... R24: =DEGREES(ASIN(SIN($C$5)*SIN($D8)+COS($C$5)*COS($D8)*COS(RADIANS(R$22)))) -> -21.209699
A25: =E9 -> 446 | B25: =DEGREES(ASIN(SIN($C$5)*SIN($D9)+COS($C$5)*COS($D9)*COS(RADIANS(B$22)))) -> -11.123098 | C25: =DEGREES(ASIN(SIN($C$5)*SIN($D9)+COS($C$5)*COS($D9)*COS(RADIANS(C$22)))) -> -5.5659414 | D25: =DEGREES(ASIN(SIN($C$5)*SIN($D9)+COS($C$5)*COS($D9)*COS(RADIANS(D$22)))) -> 0.34092741 | E25: =DEGREES(ASIN(SIN($C$5)*SIN($D9)+COS($C$5)*COS($D9)*COS(RADIANS(E$22)))) -> 6.2514381 | F25: =DEGREES(ASIN(SIN($C$5)*SIN($D9)+COS($C$5)*COS($D9)*COS(RADIANS(F$22)))) -> 11.81885 | G25: =DEGREES(ASIN(SIN($C$5)*SIN($D9)+COS($C$5)*COS($D9)*COS(RADIANS(G$22)))) -> 16.689909 | H25: =DEGREES(ASIN(SIN($C$5)*SIN($D9)+COS($C$5)*COS($D9)*COS(RADIANS(H$22)))) -> 20.511748 | I25: =DEGREES(ASIN(SIN($C$5)*SIN($D9)+COS($C$5)*COS($D9)*COS(RADIANS(I$22)))) -> 22.962799 | ... R25: =DEGREES(ASIN(SIN($C$5)*SIN($D9)+COS($C$5)*COS($D9)*COS(RADIANS(R$22)))) -> -11.123098
A26: =E10 -> 477 | B26: =DEGREES(ASIN(SIN($C$5)*SIN($D10)+COS($C$5)*COS($D10)*COS(RADIANS(B$22)))) -> -0.23590044 | C26: =DEGREES(ASIN(SIN($C$5)*SIN($D10)+COS($C$5)*COS($D10)*COS(RADIANS(C$22)))) -> 5.1476256 | D26: =DEGREES(ASIN(SIN($C$5)*SIN($D10)+COS($C$5)*COS($D10)*COS(RADIANS(D$22)))) -> 10.977547 | E26: =DEGREES(ASIN(SIN($C$5)*SIN($D10)+COS($C$5)*COS($D10)*COS(RADIANS(E$22)))) -> 16.925405 | F26: =DEGREES(ASIN(SIN($C$5)*SIN($D10)+COS($C$5)*COS($D10)*COS(RADIANS(F$22)))) -> 22.64162 | G26: =DEGREES(ASIN(SIN($C$5)*SIN($D10)+COS($C$5)*COS($D10)*COS(RADIANS(G$22)))) -> 27.745667 | H26: =DEGREES(ASIN(SIN($C$5)*SIN($D10)+COS($C$5)*COS($D10)*COS(RADIANS(H$22)))) -> 31.828611 | I26: =DEGREES(ASIN(SIN($C$5)*SIN($D10)+COS($C$5)*COS($D10)*COS(RADIANS(I$22)))) -> 34.489118 | ... R26: =DEGREES(ASIN(SIN($C$5)*SIN($D10)+COS($C$5)*COS($D10)*COS(RADIANS(R$22)))) -> -0.23590044
A27: =E11 -> 507 | B27: =DEGREES(ASIN(SIN($C$5)*SIN($D11)+COS($C$5)*COS($D11)*COS(RADIANS(B$22)))) -> 7.5288832 | C27: =DEGREES(ASIN(SIN($C$5)*SIN($D11)+COS($C$5)*COS($D11)*COS(RADIANS(C$22)))) -> 12.769152 | D27: =DEGREES(ASIN(SIN($C$5)*SIN($D11)+COS($C$5)*COS($D11)*COS(RADIANS(D$22)))) -> 18.518004 | E27: =DEGREES(ASIN(SIN($C$5)*SIN($D11)+COS($C$5)*COS($D11)*COS(RADIANS(E$22)))) -> 24.467803 | F27: =DEGREES(ASIN(SIN($C$5)*SIN($D11)+COS($C$5)*COS($D11)*COS(RADIANS(F$22)))) -> 30.276888 | G27: =DEGREES(ASIN(SIN($C$5)*SIN($D11)+COS($C$5)*COS($D11)*COS(RADIANS(G$22)))) -> 35.55343 | H27: =DEGREES(ASIN(SIN($C$5)*SIN($D11)+COS($C$5)*COS($D11)*COS(RADIANS(H$22)))) -> 39.848731 | I27: =DEGREES(ASIN(SIN($C$5)*SIN($D11)+COS($C$5)*COS($D11)*COS(RADIANS(I$22)))) -> 42.690755 | ... R27: =DEGREES(ASIN(SIN($C$5)*SIN($D11)+COS($C$5)*COS($D11)*COS(RADIANS(R$22)))) -> 7.5288832
A28: =E12 -> 538 | B28: =DEGREES(ASIN(SIN($C$5)*SIN($D12)+COS($C$5)*COS($D12)*COS(RADIANS(B$22)))) -> 10.516563 | C28: =DEGREES(ASIN(SIN($C$5)*SIN($D12)+COS($C$5)*COS($D12)*COS(RADIANS(C$22)))) -> 15.695885 | D28: =DEGREES(ASIN(SIN($C$5)*SIN($D12)+COS($C$5)*COS($D12)*COS(RADIANS(D$22)))) -> 21.406312 | E28: =DEGREES(ASIN(SIN($C$5)*SIN($D12)+COS($C$5)*COS($D12)*COS(RADIANS(E$22)))) -> 27.350163 | F28: =DEGREES(ASIN(SIN($C$5)*SIN($D12)+COS($C$5)*COS($D12)*COS(RADIANS(F$22)))) -> 33.19149 | G28: =DEGREES(ASIN(SIN($C$5)*SIN($D12)+COS($C$5)*COS($D12)*COS(RADIANS(G$22)))) -> 38.536727 | H28: =DEGREES(ASIN(SIN($C$5)*SIN($D12)+COS($C$5)*COS($D12)*COS(RADIANS(H$22)))) -> 42.922511 | I28: =DEGREES(ASIN(SIN($C$5)*SIN($D12)+COS($C$5)*COS($D12)*COS(RADIANS(I$22)))) -> 45.845515 | ... R28: =DEGREES(ASIN(SIN($C$5)*SIN($D12)+COS($C$5)*COS($D12)*COS(RADIANS(R$22)))) -> 10.516563
A29: =E13 -> 568 | B29: =DEGREES(ASIN(SIN($C$5)*SIN($D13)+COS($C$5)*COS($D13)*COS(RADIANS(B$22)))) -> 7.6915267 | C29: =DEGREES(ASIN(SIN($C$5)*SIN($D13)+COS($C$5)*COS($D13)*COS(RADIANS(C$22)))) -> 12.928571 | D29: =DEGREES(ASIN(SIN($C$5)*SIN($D13)+COS($C$5)*COS($D13)*COS(RADIANS(D$22)))) -> 18.675446 | E29: =DEGREES(ASIN(SIN($C$5)*SIN($D13)+COS($C$5)*COS($D13)*COS(RADIANS(E$22)))) -> 24.625026 | F29: =DEGREES(ASIN(SIN($C$5)*SIN($D13)+COS($C$5)*COS($D13)*COS(RADIANS(F$22)))) -> 30.435923 | G29: =DEGREES(ASIN(SIN($C$5)*SIN($D13)+COS($C$5)*COS($D13)*COS(RADIANS(G$22)))) -> 35.716168 | H29: =DEGREES(ASIN(SIN($C$5)*SIN($D13)+COS($C$5)*COS($D13)*COS(RADIANS(H$22)))) -> 40.01625 | I29: =DEGREES(ASIN(SIN($C$5)*SIN($D13)+COS($C$5)*COS($D13)*COS(RADIANS(I$22)))) -> 42.862495 | ... R29: =DEGREES(ASIN(SIN($C$5)*SIN($D13)+COS($C$5)*COS($D13)*COS(RADIANS(R$22)))) -> 7.6915267
A30: =E14 -> 599 | B30: =DEGREES(ASIN(SIN($C$5)*SIN($D14)+COS($C$5)*COS($D14)*COS(RADIANS(B$22)))) -> -0.17216974 | C30: =DEGREES(ASIN(SIN($C$5)*SIN($D14)+COS($C$5)*COS($D14)*COS(RADIANS(C$22)))) -> 5.2102562 | D30: =DEGREES(ASIN(SIN($C$5)*SIN($D14)+COS($C$5)*COS($D14)*COS(RADIANS(D$22)))) -> 11.03961 | E30: =DEGREES(ASIN(SIN($C$5)*SIN($D14)+COS($C$5)*COS($D14)*COS(RADIANS(E$22)))) -> 16.987574 | F30: =DEGREES(ASIN(SIN($C$5)*SIN($D14)+COS($C$5)*COS($D14)*COS(RADIANS(F$22)))) -> 22.704597 | G30: =DEGREES(ASIN(SIN($C$5)*SIN($D14)+COS($C$5)*COS($D14)*COS(RADIANS(G$22)))) -> 27.810031 | H30: =DEGREES(ASIN(SIN($C$5)*SIN($D14)+COS($C$5)*COS($D14)*COS(RADIANS(H$22)))) -> 31.894609 | I30: =DEGREES(ASIN(SIN($C$5)*SIN($D14)+COS($C$5)*COS($D14)*COS(RADIANS(I$22)))) -> 34.556471 | ... R30: =DEGREES(ASIN(SIN($C$5)*SIN($D14)+COS($C$5)*COS($D14)*COS(RADIANS(R$22)))) -> -0.17216974
A31: =E15 -> 630 | B31: =DEGREES(ASIN(SIN($C$5)*SIN($D15)+COS($C$5)*COS($D15)*COS(RADIANS(B$22)))) -> -10.888779 | C31: =DEGREES(ASIN(SIN($C$5)*SIN($D15)+COS($C$5)*COS($D15)*COS(RADIANS(C$22)))) -> -5.3350964 | D31: =DEGREES(ASIN(SIN($C$5)*SIN($D15)+COS($C$5)*COS($D15)*COS(RADIANS(D$22)))) -> 0.57051254 | E31: =DEGREES(ASIN(SIN($C$5)*SIN($D15)+COS($C$5)*COS($D15)*COS(RADIANS(E$22)))) -> 6.4822161 | F31: =DEGREES(ASIN(SIN($C$5)*SIN($D15)+COS($C$5)*COS($D15)*COS(RADIANS(F$22)))) -> 12.05306 | G31: =DEGREES(ASIN(SIN($C$5)*SIN($D15)+COS($C$5)*COS($D15)*COS(RADIANS(G$22)))) -> 16.929097 | H31: =DEGREES(ASIN(SIN($C$5)*SIN($D15)+COS($C$5)*COS($D15)*COS(RADIANS(H$22)))) -> 20.756264 | I31: =DEGREES(ASIN(SIN($C$5)*SIN($D15)+COS($C$5)*COS($D15)*COS(RADIANS(I$22)))) -> 23.211459 | ... R31: =DEGREES(ASIN(SIN($C$5)*SIN($D15)+COS($C$5)*COS($D15)*COS(RADIANS(R$22)))) -> -10.888779
A32: =E16 -> 660 | B32: =DEGREES(ASIN(SIN($C$5)*SIN($D16)+COS($C$5)*COS($D16)*COS(RADIANS(B$22)))) -> -21.53274 | C32: =DEGREES(ASIN(SIN($C$5)*SIN($D16)+COS($C$5)*COS($D16)*COS(RADIANS(C$22)))) -> -15.830877 | D32: =DEGREES(ASIN(SIN($C$5)*SIN($D16)+COS($C$5)*COS($D16)*COS(RADIANS(D$22)))) -> -9.885113 | E32: =DEGREES(ASIN(SIN($C$5)*SIN($D16)+COS($C$5)*COS($D16)*COS(RADIANS(E$22)))) -> -4.0454353 | F32: =DEGREES(ASIN(SIN($C$5)*SIN($D16)+COS($C$5)*COS($D16)*COS(RADIANS(F$22)))) -> 1.3572668 | G32: =DEGREES(ASIN(SIN($C$5)*SIN($D16)+COS($C$5)*COS($D16)*COS(RADIANS(G$22)))) -> 6.0045358 | H32: =DEGREES(ASIN(SIN($C$5)*SIN($D16)+COS($C$5)*COS($D16)*COS(RADIANS(H$22)))) -> 9.5959925 | I32: =DEGREES(ASIN(SIN($C$5)*SIN($D16)+COS($C$5)*COS($D16)*COS(RADIANS(I$22)))) -> 11.872401 | ... R32: =DEGREES(ASIN(SIN($C$5)*SIN($D16)+COS($C$5)*COS($D16)*COS(RADIANS(R$22)))) -> -21.53274
A33: =E17 -> 691 | B33: =DEGREES(ASIN(SIN($C$5)*SIN($D17)+COS($C$5)*COS($D17)*COS(RADIANS(B$22)))) -> -30.022574 | C33: =DEGREES(ASIN(SIN($C$5)*SIN($D17)+COS($C$5)*COS($D17)*COS(RADIANS(C$22)))) -> -24.216398 | D33: =DEGREES(ASIN(SIN($C$5)*SIN($D17)+COS($C$5)*COS($D17)*COS(RADIANS(D$22)))) -> -18.266275 | E33: =DEGREES(ASIN(SIN($C$5)*SIN($D17)+COS($C$5)*COS($D17)*COS(RADIANS(E$22)))) -> -12.514287 | F33: =DEGREES(ASIN(SIN($C$5)*SIN($D17)+COS($C$5)*COS($D17)*COS(RADIANS(F$22)))) -> -7.2688857 | G33: =DEGREES(ASIN(SIN($C$5)*SIN($D17)+COS($C$5)*COS($D17)*COS(RADIANS(G$22)))) -> -2.8147143 | H33: =DEGREES(ASIN(SIN($C$5)*SIN($D17)+COS($C$5)*COS($D17)*COS(RADIANS(H$22)))) -> 0.59015277 | I33: =DEGREES(ASIN(SIN($C$5)*SIN($D17)+COS($C$5)*COS($D17)*COS(RADIANS(I$22)))) -> 2.7308469 | ... R33: =DEGREES(ASIN(SIN($C$5)*SIN($D17)+COS($C$5)*COS($D17)*COS(RADIANS(R$22)))) -> -30.022574
A34: =E18 -> 721 | B34: =DEGREES(ASIN(SIN($C$5)*SIN($D18)+COS($C$5)*COS($D18)*COS(RADIANS(B$22)))) -> -33.1911 | C34: =DEGREES(ASIN(SIN($C$5)*SIN($D18)+COS($C$5)*COS($D18)*COS(RADIANS(C$22)))) -> -27.349777 | D34: =DEGREES(ASIN(SIN($C$5)*SIN($D18)+COS($C$5)*COS($D18)*COS(RADIANS(D$22)))) -> -21.405924 | E34: =DEGREES(ASIN(SIN($C$5)*SIN($D18)+COS($C$5)*COS($D18)*COS(RADIANS(E$22)))) -> -15.695493 | F34: =DEGREES(ASIN(SIN($C$5)*SIN($D18)+COS($C$5)*COS($D18)*COS(RADIANS(F$22)))) -> -10.516162 | G34: =DEGREES(ASIN(SIN($C$5)*SIN($D18)+COS($C$5)*COS($D18)*COS(RADIANS(G$22)))) -> -6.1386843 | H34: =DEGREES(ASIN(SIN($C$5)*SIN($D18)+COS($C$5)*COS($D18)*COS(RADIANS(H$22)))) -> -2.8053339 | I34: =DEGREES(ASIN(SIN($C$5)*SIN($D18)+COS($C$5)*COS($D18)*COS(RADIANS(I$22)))) -> -0.71547409 | ... R34: =DEGREES(ASIN(SIN($C$5)*SIN($D18)+COS($C$5)*COS($D18)*COS(RADIANS(R$22)))) -> -33.1911
A35: janvier | B35: =DEGREES(ACOS((SIN($C$5)*COS($D7)*COS(RADIANS(B$22))-COS($C$5)*SIN($D7))/COS(RADIANS(B23))))*SIGN(B$22) -> -110.00739 | C35: =DEGREES(ACOS((SIN($C$5)*COS($D7)*COS(RADIANS(C$22))-COS($C$5)*SIN($D7))/COS(RADIANS(C23))))*SIGN(C$22) -> -95.561302 | D35: =DEGREES(ACOS((SIN($C$5)*COS($D7)*COS(RADIANS(D$22))-COS($C$5)*SIN($D7))/COS(RADIANS(D23))))*SIGN(D$22) -> -81.838615 | E35: =DEGREES(ACOS((SIN($C$5)*COS($D7)*COS(RADIANS(E$22))-COS($C$5)*SIN($D7))/COS(RADIANS(E23))))*SIGN(E$22) -> -68.479896 | F35: =DEGREES(ACOS((SIN($C$5)*COS($D7)*COS(RADIANS(F$22))-COS($C$5)*SIN($D7))/COS(RADIANS(F23))))*SIGN(F$22) -> -55.188439 | G35: =DEGREES(ACOS((SIN($C$5)*COS($D7)*COS(RADIANS(G$22))-COS($C$5)*SIN($D7))/COS(RADIANS(G23))))*SIGN(G$22) -> -41.752298 | H35: =DEGREES(ACOS((SIN($C$5)*COS($D7)*COS(RADIANS(H$22))-COS($C$5)*SIN($D7))/COS(RADIANS(H23))))*SIGN(H$22) -> -28.060069 | I35: =DEGREES(ACOS((SIN($C$5)*COS($D7)*COS(RADIANS(I$22))-COS($C$5)*SIN($D7))/COS(RADIANS(I23))))*SIGN(I$22) -> -14.109913 | ... R35: =DEGREES(ACOS((SIN($C$5)*COS($D7)*COS(RADIANS(R$22))-COS($C$5)*SIN($D7))/COS(RADIANS(R23))))*SIGN(R$22) -> 110.00739 | S35: AZIMUTS
A36: février | B36: =DEGREES(ACOS((SIN($C$5)*COS($D8)*COS(RADIANS(B$22))-COS($C$5)*SIN($D8))/COS(RADIANS(B24))))*SIGN(B$22) -> -113.99488 | C36: =DEGREES(ACOS((SIN($C$5)*COS($D8)*COS(RADIANS(C$22))-COS($C$5)*SIN($D8))/COS(RADIANS(C24))))*SIGN(C$22) -> -99.647847 | D36: =DEGREES(ACOS((SIN($C$5)*COS($D8)*COS(RADIANS(D$22))-COS($C$5)*SIN($D8))/COS(RADIANS(D24))))*SIGN(D$22) -> -85.809905 | E36: =DEGREES(ACOS((SIN($C$5)*COS($D8)*COS(RADIANS(E$22))-COS($C$5)*SIN($D8))/COS(RADIANS(E24))))*SIGN(E$22) -> -72.167618 | F36: =DEGREES(ACOS((SIN($C$5)*COS($D8)*COS(RADIANS(F$22))-COS($C$5)*SIN($D8))/COS(RADIANS(F24))))*SIGN(F$22) -> -58.437093 | G36: =DEGREES(ACOS((SIN($C$5)*COS($D8)*COS(RADIANS(G$22))-COS($C$5)*SIN($D8))/COS(RADIANS(G24))))*SIGN(G$22) -> -44.40175 | H36: =DEGREES(ACOS((SIN($C$5)*COS($D8)*COS(RADIANS(H$22))-COS($C$5)*SIN($D8))/COS(RADIANS(H24))))*SIGN(H$22) -> -29.948188 | I36: =DEGREES(ACOS((SIN($C$5)*COS($D8)*COS(RADIANS(I$22))-COS($C$5)*SIN($D8))/COS(RADIANS(I24))))*SIGN(I$22) -> -15.095959 | ... R36: =DEGREES(ACOS((SIN($C$5)*COS($D8)*COS(RADIANS(R$22))-COS($C$5)*SIN($D8))/COS(RADIANS(R24))))*SIGN(R$22) -> 113.99488
A37: mars | B37: =DEGREES(ACOS((SIN($C$5)*COS($D9)*COS(RADIANS(B$22))-COS($C$5)*SIN($D9))/COS(RADIANS(B25))))*SIGN(B$22) -> -118.04402 | C37: =DEGREES(ACOS((SIN($C$5)*COS($D9)*COS(RADIANS(C$22))-COS($C$5)*SIN($D9))/COS(RADIANS(C25))))*SIGN(C$22) -> -103.95603 | D37: =DEGREES(ACOS((SIN($C$5)*COS($D9)*COS(RADIANS(D$22))-COS($C$5)*SIN($D9))/COS(RADIANS(D25))))*SIGN(D$22) -> -90.147797 | E37: =DEGREES(ACOS((SIN($C$5)*COS($D9)*COS(RADIANS(E$22))-COS($C$5)*SIN($D9))/COS(RADIANS(E25))))*SIGN(E$22) -> -76.332554 | F37: =DEGREES(ACOS((SIN($C$5)*COS($D9)*COS(RADIANS(F$22))-COS($C$5)*SIN($D9))/COS(RADIANS(F25))))*SIGN(F$22) -> -62.22251 | G37: =DEGREES(ACOS((SIN($C$5)*COS($D9)*COS(RADIANS(G$22))-COS($C$5)*SIN($D9))/COS(RADIANS(G25))))*SIGN(G$22) -> -47.577421 | H37: =DEGREES(ACOS((SIN($C$5)*COS($D9)*COS(RADIANS(H$22))-COS($C$5)*SIN($D9))/COS(RADIANS(H25))))*SIGN(H$22) -> -32.264897 | I37: =DEGREES(ACOS((SIN($C$5)*COS($D9)*COS(RADIANS(I$22))-COS($C$5)*SIN($D9))/COS(RADIANS(I25))))*SIGN(I$22) -> -16.325117 | ... R37: =DEGREES(ACOS((SIN($C$5)*COS($D9)*COS(RADIANS(R$22))-COS($C$5)*SIN($D9))/COS(RADIANS(R25))))*SIGN(R$22) -> 118.04402
A38: avril | B38: =DEGREES(ACOS((SIN($C$5)*COS($D10)*COS(RADIANS(B$22))-COS($C$5)*SIN($D10))/COS(RADIANS(B26))))*SIGN(B$22) -> -122.0943 | C38: =DEGREES(ACOS((SIN($C$5)*COS($D10)*COS(RADIANS(C$22))-COS($C$5)*SIN($D10))/COS(RADIANS(C26))))*SIGN(C$22) -> -108.42847 | D38: =DEGREES(ACOS((SIN($C$5)*COS($D10)*COS(RADIANS(D$22))-COS($C$5)*SIN($D10))/COS(RADIANS(D26))))*SIGN(D$22) -> -94.823672 | E38: =DEGREES(ACOS((SIN($C$5)*COS($D10)*COS(RADIANS(E$22))-COS($C$5)*SIN($D10))/COS(RADIANS(E26))))*SIGN(E$22) -> -80.994821 | F38: =DEGREES(ACOS((SIN($C$5)*COS($D10)*COS(RADIANS(F$22))-COS($C$5)*SIN($D10))/COS(RADIANS(F26))))*SIGN(F$22) -> -66.622453 | G38: =DEGREES(ACOS((SIN($C$5)*COS($D10)*COS(RADIANS(G$22))-COS($C$5)*SIN($D10))/COS(RADIANS(G26))))*SIGN(G$22) -> -51.404771 | H38: =DEGREES(ACOS((SIN($C$5)*COS($D10)*COS(RADIANS(H$22))-COS($C$5)*SIN($D10))/COS(RADIANS(H26))))*SIGN(H$22) -> -35.147083 | I38: =DEGREES(ACOS((SIN($C$5)*COS($D10)*COS(RADIANS(I$22))-COS($C$5)*SIN($D10))/COS(RADIANS(I26))))*SIGN(I$22) -> -17.889009 | ... R38: =DEGREES(ACOS((SIN($C$5)*COS($D10)*COS(RADIANS(R$22))-COS($C$5)*SIN($D10))/COS(RADIANS(R26))))*SIGN(R$22) -> 122.0943
A39: mai | B39: =DEGREES(ACOS((SIN($C$5)*COS($D11)*COS(RADIANS(B$22))-COS($C$5)*SIN($D11))/COS(RADIANS(B27))))*SIGN(B$22) -> -124.96038 | C39: =DEGREES(ACOS((SIN($C$5)*COS($D11)*COS(RADIANS(C$22))-COS($C$5)*SIN($D11))/COS(RADIANS(C27))))*SIGN(C$22) -> -111.69151 | D39: =DEGREES(ACOS((SIN($C$5)*COS($D11)*COS(RADIANS(D$22))-COS($C$5)*SIN($D11))/COS(RADIANS(D27))))*SIGN(D$22) -> -98.348974 | E39: =DEGREES(ACOS((SIN($C$5)*COS($D11)*COS(RADIANS(E$22))-COS($C$5)*SIN($D11))/COS(RADIANS(E27))))*SIGN(E$22) -> -84.635194 | F39: =DEGREES(ACOS((SIN($C$5)*COS($D11)*COS(RADIANS(F$22))-COS($C$5)*SIN($D11))/COS(RADIANS(F27))))*SIGN(F$22) -> -70.188134 | G39: =DEGREES(ACOS((SIN($C$5)*COS($D11)*COS(RADIANS(G$22))-COS($C$5)*SIN($D11))/COS(RADIANS(G27))))*SIGN(G$22) -> -54.627141 | H39: =DEGREES(ACOS((SIN($C$5)*COS($D11)*COS(RADIANS(H$22))-COS($C$5)*SIN($D11))/COS(RADIANS(H27))))*SIGN(H$22) -> -37.661742 | I39: =DEGREES(ACOS((SIN($C$5)*COS($D11)*COS(RADIANS(I$22))-COS($C$5)*SIN($D11))/COS(RADIANS(I27))))*SIGN(I$22) -> -19.290209 | ... R39: =DEGREES(ACOS((SIN($C$5)*COS($D11)*COS(RADIANS(R$22))-COS($C$5)*SIN($D11))/COS(RADIANS(R27))))*SIGN(R$22) -> 124.96038
A40: juin | B40: =DEGREES(ACOS((SIN($C$5)*COS($D12)*COS(RADIANS(B$22))-COS($C$5)*SIN($D12))/COS(RADIANS(B28))))*SIGN(B$22) -> -126.08644 | C40: =DEGREES(ACOS((SIN($C$5)*COS($D12)*COS(RADIANS(C$22))-COS($C$5)*SIN($D12))/COS(RADIANS(C28))))*SIGN(C$22) -> -112.99542 | D40: =DEGREES(ACOS((SIN($C$5)*COS($D12)*COS(RADIANS(D$22))-COS($C$5)*SIN($D12))/COS(RADIANS(D28))))*SIGN(D$22) -> -99.784671 | E40: =DEGREES(ACOS((SIN($C$5)*COS($D12)*COS(RADIANS(E$22))-COS($C$5)*SIN($D12))/COS(RADIANS(E28))))*SIGN(E$22) -> -86.149548 | F40: =DEGREES(ACOS((SIN($C$5)*COS($D12)*COS(RADIANS(F$22))-COS($C$5)*SIN($D12))/COS(RADIANS(F28))))*SIGN(F$22) -> -71.706964 | G40: =DEGREES(ACOS((SIN($C$5)*COS($D12)*COS(RADIANS(G$22))-COS($C$5)*SIN($D12))/COS(RADIANS(G28))))*SIGN(G$22) -> -56.035438 | H40: =DEGREES(ACOS((SIN($C$5)*COS($D12)*COS(RADIANS(H$22))-COS($C$5)*SIN($D12))/COS(RADIANS(H28))))*SIGN(H$22) -> -38.788927 | I40: =DEGREES(ACOS((SIN($C$5)*COS($D12)*COS(RADIANS(I$22))-COS($C$5)*SIN($D12))/COS(RADIANS(I28))))*SIGN(I$22) -> -19.930841 | ... R40: =DEGREES(ACOS((SIN($C$5)*COS($D12)*COS(RADIANS(R$22))-COS($C$5)*SIN($D12))/COS(RADIANS(R28))))*SIGN(R$22) -> 126.08644
A41: juillet | B41: =DEGREES(ACOS((SIN($C$5)*COS($D13)*COS(RADIANS(B$22))-COS($C$5)*SIN($D13))/COS(RADIANS(B29))))*SIGN(B$22) -> -125.02119 | C41: =DEGREES(ACOS((SIN($C$5)*COS($D13)*COS(RADIANS(C$22))-COS($C$5)*SIN($D13))/COS(RADIANS(C29))))*SIGN(C$22) -> -111.76162 | D41: =DEGREES(ACOS((SIN($C$5)*COS($D13)*COS(RADIANS(D$22))-COS($C$5)*SIN($D13))/COS(RADIANS(D29))))*SIGN(D$22) -> -98.425775 | E41: =DEGREES(ACOS((SIN($C$5)*COS($D13)*COS(RADIANS(E$22))-COS($C$5)*SIN($D13))/COS(RADIANS(E29))))*SIGN(E$22) -> -84.715734 | F41: =DEGREES(ACOS((SIN($C$5)*COS($D13)*COS(RADIANS(F$22))-COS($C$5)*SIN($D13))/COS(RADIANS(F29))))*SIGN(F$22) -> -70.268376 | G41: =DEGREES(ACOS((SIN($C$5)*COS($D13)*COS(RADIANS(G$22))-COS($C$5)*SIN($D13))/COS(RADIANS(G29))))*SIGN(G$22) -> -54.700993 | H41: =DEGREES(ACOS((SIN($C$5)*COS($D13)*COS(RADIANS(H$22))-COS($C$5)*SIN($D13))/COS(RADIANS(H29))))*SIGN(H$22) -> -37.720409 | I41: =DEGREES(ACOS((SIN($C$5)*COS($D13)*COS(RADIANS(I$22))-COS($C$5)*SIN($D13))/COS(RADIANS(I29))))*SIGN(I$22) -> -19.323352 | ... R41: =DEGREES(ACOS((SIN($C$5)*COS($D13)*COS(RADIANS(R$22))-COS($C$5)*SIN($D13))/COS(RADIANS(R29))))*SIGN(R$22) -> 125.02119
A42: août | B42: =DEGREES(ACOS((SIN($C$5)*COS($D14)*COS(RADIANS(B$22))-COS($C$5)*SIN($D14))/COS(RADIANS(B30))))*SIGN(B$22) -> -122.11768 | C42: =DEGREES(ACOS((SIN($C$5)*COS($D14)*COS(RADIANS(C$22))-COS($C$5)*SIN($D14))/COS(RADIANS(C30))))*SIGN(C$22) -> -108.45477 | D42: =DEGREES(ACOS((SIN($C$5)*COS($D14)*COS(RADIANS(D$22))-COS($C$5)*SIN($D14))/COS(RADIANS(D30))))*SIGN(D$22) -> -94.851695 | E42: =DEGREES(ACOS((SIN($C$5)*COS($D14)*COS(RADIANS(E$22))-COS($C$5)*SIN($D14))/COS(RADIANS(E30))))*SIGN(E$22) -> -81.023327 | F42: =DEGREES(ACOS((SIN($C$5)*COS($D14)*COS(RADIANS(F$22))-COS($C$5)*SIN($D14))/COS(RADIANS(F30))))*SIGN(F$22) -> -66.649918 | G42: =DEGREES(ACOS((SIN($C$5)*COS($D14)*COS(RADIANS(G$22))-COS($C$5)*SIN($D14))/COS(RADIANS(G30))))*SIGN(G$22) -> -51.429161 | H42: =DEGREES(ACOS((SIN($C$5)*COS($D14)*COS(RADIANS(H$22))-COS($C$5)*SIN($D14))/COS(RADIANS(H30))))*SIGN(H$22) -> -35.165798 | I42: =DEGREES(ACOS((SIN($C$5)*COS($D14)*COS(RADIANS(I$22))-COS($C$5)*SIN($D14))/COS(RADIANS(I30))))*SIGN(I$22) -> -17.899304 | ... R42: =DEGREES(ACOS((SIN($C$5)*COS($D14)*COS(RADIANS(R$22))-COS($C$5)*SIN($D14))/COS(RADIANS(R30))))*SIGN(R$22) -> 122.11768
A43: septembre | B43: =DEGREES(ACOS((SIN($C$5)*COS($D15)*COS(RADIANS(B$22))-COS($C$5)*SIN($D15))/COS(RADIANS(B31))))*SIGN(B$22) -> -118.13348 | C43: =DEGREES(ACOS((SIN($C$5)*COS($D15)*COS(RADIANS(C$22))-COS($C$5)*SIN($D15))/COS(RADIANS(C31))))*SIGN(C$22) -> -104.05304 | D43: =DEGREES(ACOS((SIN($C$5)*COS($D15)*COS(RADIANS(D$22))-COS($C$5)*SIN($D15))/COS(RADIANS(D31))))*SIGN(D$22) -> -90.247332 | E43: =DEGREES(ACOS((SIN($C$5)*COS($D15)*COS(RADIANS(E$22))-COS($C$5)*SIN($D15))/COS(RADIANS(E31))))*SIGN(E$22) -> -76.429887 | F43: =DEGREES(ACOS((SIN($C$5)*COS($D15)*COS(RADIANS(F$22))-COS($C$5)*SIN($D15))/COS(RADIANS(F31))))*SIGN(F$22) -> -62.312556 | G43: =DEGREES(ACOS((SIN($C$5)*COS($D15)*COS(RADIANS(G$22))-COS($C$5)*SIN($D15))/COS(RADIANS(G31))))*SIGN(G$22) -> -47.654221 | H43: =DEGREES(ACOS((SIN($C$5)*COS($D15)*COS(RADIANS(H$22))-COS($C$5)*SIN($D15))/COS(RADIANS(H31))))*SIGN(H$22) -> -32.321717 | I43: =DEGREES(ACOS((SIN($C$5)*COS($D15)*COS(RADIANS(I$22))-COS($C$5)*SIN($D15))/COS(RADIANS(I31))))*SIGN(I$22) -> -16.355557 | ... R43: =DEGREES(ACOS((SIN($C$5)*COS($D15)*COS(RADIANS(R$22))-COS($C$5)*SIN($D15))/COS(RADIANS(R31))))*SIGN(R$22) -> 118.13348
A44: octobre | B44: =DEGREES(ACOS((SIN($C$5)*COS($D16)*COS(RADIANS(B$22))-COS($C$5)*SIN($D16))/COS(RADIANS(B32))))*SIGN(B$22) -> -113.85677 | C44: =DEGREES(ACOS((SIN($C$5)*COS($D16)*COS(RADIANS(C$22))-COS($C$5)*SIN($D16))/COS(RADIANS(C32))))*SIGN(C$22) -> -99.503748 | D44: =DEGREES(ACOS((SIN($C$5)*COS($D16)*COS(RADIANS(D$22))-COS($C$5)*SIN($D16))/COS(RADIANS(D32))))*SIGN(D$22) -> -85.667545 | E44: =DEGREES(ACOS((SIN($C$5)*COS($D16)*COS(RADIANS(E$22))-COS($C$5)*SIN($D16))/COS(RADIANS(E32))))*SIGN(E$22) -> -72.033417 | F44: =DEGREES(ACOS((SIN($C$5)*COS($D16)*COS(RADIANS(F$22))-COS($C$5)*SIN($D16))/COS(RADIANS(F32))))*SIGN(F$22) -> -58.31724 | G44: =DEGREES(ACOS((SIN($C$5)*COS($D16)*COS(RADIANS(G$22))-COS($C$5)*SIN($D16))/COS(RADIANS(G32))))*SIGN(G$22) -> -44.302816 | H44: =DEGREES(ACOS((SIN($C$5)*COS($D16)*COS(RADIANS(H$22))-COS($C$5)*SIN($D16))/COS(RADIANS(H32))))*SIGN(H$22) -> -29.876991 | I44: =DEGREES(ACOS((SIN($C$5)*COS($D16)*COS(RADIANS(I$22))-COS($C$5)*SIN($D16))/COS(RADIANS(I32))))*SIGN(I$22) -> -15.058535 | ... R44: =DEGREES(ACOS((SIN($C$5)*COS($D16)*COS(RADIANS(R$22))-COS($C$5)*SIN($D16))/COS(RADIANS(R32))))*SIGN(R$22) -> 113.85677
A45: novembre | B45: =DEGREES(ACOS((SIN($C$5)*COS($D17)*COS(RADIANS(B$22))-COS($C$5)*SIN($D17))/COS(RADIANS(B33))))*SIGN(B$22) -> -109.93959 | C45: =DEGREES(ACOS((SIN($C$5)*COS($D17)*COS(RADIANS(C$22))-COS($C$5)*SIN($D17))/COS(RADIANS(C33))))*SIGN(C$22) -> -95.493129 | D45: =DEGREES(ACOS((SIN($C$5)*COS($D17)*COS(RADIANS(D$22))-COS($C$5)*SIN($D17))/COS(RADIANS(D33))))*SIGN(D$22) -> -81.773498 | E45: =DEGREES(ACOS((SIN($C$5)*COS($D17)*COS(RADIANS(E$22))-COS($C$5)*SIN($D17))/COS(RADIANS(E33))))*SIGN(E$22) -> -68.420368 | F45: =DEGREES(ACOS((SIN($C$5)*COS($D17)*COS(RADIANS(F$22))-COS($C$5)*SIN($D17))/COS(RADIANS(F33))))*SIGN(F$22) -> -55.136734 | G45: =DEGREES(ACOS((SIN($C$5)*COS($D17)*COS(RADIANS(G$22))-COS($C$5)*SIN($D17))/COS(RADIANS(G33))))*SIGN(G$22) -> -41.710649 | H45: =DEGREES(ACOS((SIN($C$5)*COS($D17)*COS(RADIANS(H$22))-COS($C$5)*SIN($D17))/COS(RADIANS(H33))))*SIGN(H$22) -> -28.030682 | I45: =DEGREES(ACOS((SIN($C$5)*COS($D17)*COS(RADIANS(I$22))-COS($C$5)*SIN($D17))/COS(RADIANS(I33))))*SIGN(I$22) -> -14.094667 | ... R45: =DEGREES(ACOS((SIN($C$5)*COS($D17)*COS(RADIANS(R$22))-COS($C$5)*SIN($D17))/COS(RADIANS(R33))))*SIGN(R$22) -> 109.93959
A46: décembre | B46: =DEGREES(ACOS((SIN($C$5)*COS($D18)*COS(RADIANS(B$22))-COS($C$5)*SIN($D18))/COS(RADIANS(B34))))*SIGN(B$22) -> -108.29325 | C46: =DEGREES(ACOS((SIN($C$5)*COS($D18)*COS(RADIANS(C$22))-COS($C$5)*SIN($D18))/COS(RADIANS(C34))))*SIGN(C$22) -> -93.850661 | D46: =DEGREES(ACOS((SIN($C$5)*COS($D18)*COS(RADIANS(D$22))-COS($C$5)*SIN($D18))/COS(RADIANS(D34))))*SIGN(D$22) -> -80.215526 | E46: =DEGREES(ACOS((SIN($C$5)*COS($D18)*COS(RADIANS(E$22))-COS($C$5)*SIN($D18))/COS(RADIANS(E34))))*SIGN(E$22) -> -67.004759 | F46: =DEGREES(ACOS((SIN($C$5)*COS($D18)*COS(RADIANS(F$22))-COS($C$5)*SIN($D18))/COS(RADIANS(F34))))*SIGN(F$22) -> -53.913713 | G46: =DEGREES(ACOS((SIN($C$5)*COS($D18)*COS(RADIANS(G$22))-COS($C$5)*SIN($D18))/COS(RADIANS(G34))))*SIGN(G$22) -> -40.729946 | H46: =DEGREES(ACOS((SIN($C$5)*COS($D18)*COS(RADIANS(H$22))-COS($C$5)*SIN($D18))/COS(RADIANS(H34))))*SIGN(H$22) -> -27.341183 | I46: =DEGREES(ACOS((SIN($C$5)*COS($D18)*COS(RADIANS(I$22))-COS($C$5)*SIN($D18))/COS(RADIANS(I34))))*SIGN(I$22) -> -13.737775 | ... R46: =DEGREES(ACOS((SIN($C$5)*COS($D18)*COS(RADIANS(R$22))-COS($C$5)*SIN($D18))/COS(RADIANS(R34))))*SIGN(R$22) -> 108.29325

Sheet Villes-Géo
A1: Pays/région | C1: Villes | D1: Latitude | F1: Longitude | H1: Altitude | L1: declinaison magnétique | S1: heure légale
E2: N/S | G2: E/O | H2: nin | I2: max | J2: moy | M2: +/- | O2: °/an | Q2: maj
A3: France | B3: 60 | C3: Beauvais | D3: 49.83 | E3: N | F3: 2.0952 | G3: E | H3: 57 | I3: 170 | L3: ? | S3: France
C4: Brest | D4: 48.38 | E4: N | F4: -4.485556 | G4: O | H4: 0 | I4: 103 | L4: 1.85 | M4: 0.35 | N4: W | O4: 0.14 | P4: E | Q4: 2016 | S4: France
C5: Chambéry | D5: 45.47 | E5: N | F5: 5.9118 | G5: E | H5: 245 | I5: 560 | L5: ? | S5: France
C6: Le Mans | D6: 48 | E6: N | F6: 0.196 | G6: E | H6: 38 | I6: 134 | L6: 0.21 | M6: 0.35 | N6: W | O6: 0.13 | P6: E | Q6: 2016 | S6: France
B7: 59 | C7: Lille | D7: 50.65 | E7: N | F7: 3.063333 | G7: E | H7: 18 | I7: 46 | L7: ? | S7: France
B8: 69 | C8: Lyon | D8: 45.76 | E8: N | F8: 4.842223 | G8: E | H8: 162 | I8: 305 | L8: ? | S8: France
B9: 13 | C9: Marseille | D9: 43.3 | E9: N | F9: 5.369889 | G9: E | H9: 0 | I9: 652 | L9: ? | S9: France
B10: 44 | C10: Nantes | D10: 47.21 | E10: N | F10: -1.55 | G10: O | H10: 2 | I10: 52 | L10: 0.75 | M10: 0.35 | N10: W | O10: 0.13 | P10: E | Q10: 2016 | S10: France
B11: 66 | C11: Odeillo (66120) | D11: 42.49 | E11: N | F11: 2.03 | G11: E | H11: 1300 | I11: 2213 | L11: ? | S11: France
B12: 75 | C12: Paris | D12: 48.86 | E12: N | F12: 2.35 | G12: O | H12: 28 | I12: 131 | L12: 0.35 | M12: 0.35 | N12: E | O12: 0.13 | P12: E | Q12: 2016 | S12: France
B13: 86 | C13: Poitier | D13: 46.58 | E13: N | F13: 0.336112 | G13: E | H13: 65 | I13: 144 | L13: ? | S13: France
B14: 95 | C14: Roissy (95700) | D14: 49 | E14: N | F14: 2.5167 | G14: E | H14: 100 | I14: 116 | L14: 0.39 | M14: 0.36 | N14: E | O14: 0.13 | P14: E | Q14: 2016 | S14: France
A16: Corse | C16: Corte | D16: 42.3 | F16: 9.15 | G16: O | L16: 2.21 | M16: 0.33 | N16: E | O16: 0.11 | P16: E | Q16: 2016 | S16: France
A17: Guadeloupe | B17: 971 | C17: Pointe-à-Pitre | D17: 16.24 | F17: -61.535 | G17: O | L17: 14.8 | M17: 0.31 | N17: W | O17: 0.03 | P17: W | Q17: 2016 | S17: UTC-4
A18: Martinique | B18: 972 | C18: Fort-de-France | D18: 14.604 | E18: N | F18: -61.06955 | G18: O | H18: 0 | I18: 1070 | S18: UTC-4
A19: Guyane | B19: 973 | C19: Kourou | D19: 5.13 | E19: N | F19: -52.617 | G19: O | L19: 18.26 | M19: 0.31 | N19: W | O19: 0.02 | P19: W | Q19: 2016 | S19: UTC-3
A20: Réunion | B20: 974 | C20: Saint-Denis | S20: UTC+4
A21: St Pierre et M. | B21: 975 | C21: Saint-Pierre | S21: UTC-3
A22: Mayote | B22: 976 | C22: Mamoudzou | S22: UTC+3
A23: St Bartelemy | B23: 977 | C23: Gustavia | S23: UTC-4
A24: St Martin | B24: 978 | C24: Marigot | S24: UTC-4
A25: Polynésie Fr | B25: 987 | C25: Papeete (Tahiti) | D25: -17.5 | E25: S | F25: 149.5 | G25: O | H25: 0 | I25: 621 | L25: 12.5 | M25: 0.18 | N25: E | O25: 0 | Q25: 2016 | S25: UTC-10
A26: Nle Calédonie | B26: 988 | C26: Nouméa | S26: UTC+11
A28: Espagne | C28: Almeria | D28: 36.83 | F28: -2.45 | G28: O | L28: 0.51 | M28: 0.31 | N28: W | O28: 0.11 | P28: E | Q28: 2016 | S28: Espagne
C29: Barcelone | D29: 41.41 | L29: ? | S29: Espagne
C30: Getafe | D30: 40.3 | L30: ? | S30: Espagne
C31: Madrid | D31: 40.41 | F31: -3.683 | G31: O | H31: ? | I31: ? | J31: 667 | L31: 0.93 | M31: 0.32 | N31: W | O31: 0.12 | P31: E | Q31: 2016 | S31: Espagne
C32: Seville | D32: 37.4 | L32: ? | S32: Espagne
A34: Majorque | C34: Palma de Majorque | D34: 39.56 | E34: N | F34: 2.65 | G34: E | J34: 13 | L34: ?
C35: Puig Major | D35: 39.80778 | E35: N | F35: 2.79361 | G35: E | I35: 1445 | L35: ?
A37: Argentine | C37: Buenos Aires | D37: -34.608051 | E37: S | F37: -58.370256 | G37: O | J37: 20 | L37: ? | S37: UTC-3
C39: Pôle nord (géo) | D39: 90 | E39: N | F39: SO | L39: 4.35 | M39: 2.86 | N39: W | O39: 1.57 | P39: E | Q39: 2016 | S39: poles
C40: équateur | D40: 0 | F40: ? | L40: ? | S40: ?
C41: Tropique du cancer | D41: 23.43 | E41: N | F41: ? | L41: ? | S41: ?
C42: Cercle Arctique | D42: 66.56278 | F42: ? | S42: ?
A44: Canada | C44: Montréal | D44: 45.5 | E44: N | F44: -73.55 | G44: O | L44: 14.55 | M44: 0.38 | N44: W | O44: 0.07 | P44: E | Q44: 2016 | S44: ?

Sheet inclinaison terre
A1: Feuille en préparation
A3: inclinaison utilisée | B3: 23.1 | C3: °
A4: inclinaison actuelle | B4: 23.43 | C4: ° | D4: au | E4: 42370
A5: inclinaison moyenne | B5: 23.1 | C5: °
A6: inclinaison minimum | B6: 21.8 | C6: °
A7: inclinaison maximum | B7: 24.4 | C7: °
A9: precession
A10: période | B10: 41000 | C10: ans
A13: nutation
A14: période | B14: 18.6 | C14: ans
A15: nutation en obliquité | B15: 0.0026 | C15: ° | D15: au | E15: 42005

Sheet decallage heure
A1: Données
A2: Ville: | B2: =IF(Ville_ref="", "inconnue", Ville_ref) -> Cercle Arctique
A3: Zone horaire: | B3: =IF(B2="inconnue","?",VLOOKUP(B2,'Villes-Géo'!C:S,17,FALSE)) -> ?
A4: longitude: | B4: =Longitude -> ? | C4: °
A6: Heure légale:
A7: heure d'hivers: GMT | B7: =VLOOKUP(B3,'heures légales'!A:E,4,FALSE) -> ?
A8: heure d'été: GMT | B8: =VLOOKUP(B3,'heures légales'!A:E,5,FALSE) -> ?
A10: Décallage de l'heure solaire
A11: avec Greenwitch | B11: =IF(B4="?","?",IF(B4="SO","SO",B4*4)) -> ? | C11: minutes | D11: soit | E11: =IF(B4="?","?",ABS(B11/(24*60))) -> ? | F11: heures
A12: avec l'heure léguale d'hivers | B12: =IF(B7="?","?",IF(B7="SO","SO",B7*60-eq_tps_L)) -> ? | C12: minutes | D12: soit | E12: =IF(B7="?","?",ABS(B12/(24*60))) -> ? | F12: heures
A13: avec l'heure léguale d'été | B13: =IF(B8="?","?",IF(B8="SO","SO",B8*60-eq_tps_L)) -> ? | C13: minutes | D13: soit | E13: =IF(B8="?","?",ABS(B13/(24*60))) -> ? | F13: heures
A15: Date de changement d'heure | B15: =VLOOKUP(B3,'heures légales'!A:I,9,FALSE) -> ? | E15: =IF(B15="?","?",DATE(B15,1,1)) -> ?
A17: hivers ==> été | B17: =VLOOKUP(B3,'heures légales'!A:I,7,FALSE) -> ? | C17: soit le | D17: =IF(B17="?","?",DAYS360(E15,B17,1)) -> ? | E17: e jour de l'année
A18: été ==> hivers | B18: =VLOOKUP(B3,'heures légales'!A:I,8,FALSE) -> ? | C18: soit le | D18: =IF(B18="?","?",DAYS360(E15,B18,1)) -> ? | E18: e jour de l'année
A26: état du calcul de l'heure léguale | B26: =IF(OR(B3="?",B7="?",B8="?",B17="?",B18="?",B15="?"),"?",IF(B7="SO","SO","Ok")) -> ?

Sheet heures légales
B1: Fuseau | D1: Décallage GMT | F1: changement d'heure
A2: Pays/région | C2: Ville | D2: hivers | E2: été | F2: O/N | G2: hivers | H2: été | I2: année
A3: poles | D3: SO | E3: SO | I3: 2017
A4: ? | D4: ? | E4: ? | G4: ? | H4: ? | I4: ?
A6: UTC-11 | B6: X | D6: -11 | E6: -11 | F6: N
A7: UTC-10 | B7: W | D7: -10 | E7: -10 | F7: N
A8: UTC-9:30 | B8: V+ | C8: Nuku Hiva | D8: -9.5 | E8: -9.5 | F8: N
A9: UTC-9 | B9: V | D9: -9 | E9: -9 | F9: N
A10: UTC-4 | B10: Q | C10: Caracas | D10: -4 | E10: -4 | F10: N
A11: UTC-3 | B11: P | C11: Sao Polo | D11: -3 | E11: -3 | F11: N
A12: France | B12: A | C12: Paris | D12: 1 | E12: 2 | F12: O | G12: =G15 -> 42456 | H12: =H15 -> 42673 | I12: =I15 -> 2016
A13: Espagne | B13: A | C13: Madrid | D13: 1 | E13: 2 | F13: O | G13: =G15 -> 42456 | H13: =H15 -> 42673 | I13: =I15 -> 2016
A14: Eu-ouest | C14: Londres | D14: 0 | E14: 1 | F14: O
A15: Eu-centrale | B15: A | D15: 1 | E15: 2 | F15: O | G15: 42456 | H15: 42673 | I15: 2016
A16: EU-est | D16: 2 | E16: 3 | F16: O
A17: UTC+2 | B17: B | D17: 2 | E17: 2 | F17: N
A18: UTC+3 | B18: C | C18: Moscou | D18: 3 | E18: 3 | F18: N
A19: UTC+11 | B19: L | D19: 11 | E19: 11 | F19: N

Sheet Paramêtres
A1: Parmêtres
A3: nombre de jours dans une année "sidérale" | B3: 365.25636 | C3: jours | D3: soit | E3: =jours_annee_siderale-G3 -> 0.25636305 | F3: en plus des | G3: =TRUNC(jours_annee_siderale,0) -> 365 | H3: jours
A4: vitesse angulaire de la terre autour du soleil | B4: =360/jours_annee_siderale -> 0.98560911 | C4: °/jour | D4: = | E4: =RADIANS(Va) -> 0.017202124 | F4: rad/jour
A5: rayon équatorial de la terre | B5: 6378 | C5: km
A6: rayon polaire de la terre | B6: 6356 | C6: km | D6: r/epp= | E6: =B5/B7 -> 708.66667
A7: épaisseur "optique" de l'atmosphére | B7: 9 | C7: km

Sheet Versions
A1: Les remarques et les contributions constructives sont les bienvenues:
A2: alain.971@laposte.net
A4: Versions | B4: Date
A6: V1 | C6: Fichier initial fournis par le GeFen
A7: V2_0 | C7: calul de la déclinaison pour les jours de l'année choisis
A8: V2 | C8: diagramme disponible soit à mi-mois, soit pour les équinox
A9: V3_0 | C9: Calcul de l'indice d'Air Mass
A10: V3_01 | C10: Utilisation d'une meilleure formule
A11: V3_02 | C11: Calcul du décallage entre l'heure solaire et l'heure civile
A12: V3_03 | C12: Enfin! J'ai réusis à faire venir la déclinaison magnétique sur le diagramme
A13: V3_04 | B13: 42832 | C13: Amélioration du calcul du décallage entre l'heure solaire et l'heure civile
A14: * | C14: + la longitude peut maintenant être entrée en saisie manuelle
A15: * | C15: + si l'heure léguale est inconnue, le midi solaire, le lever et le coucher de soleil calculés par rapport à l'heure solaire moyenne
A16: V3_05 | B16: 42471 | C16: En développement
C17: + enrichissement France Outre Mer (à poursuivre)
C18: + enrichissement donées géographiques
C19: + corrections bugs en cas de saisie manuelle
C20: + corrections bugs pour l'équateur, le cercle arctique
C21: + correction (mineure) du nombre de jour dans une année (sidérale) et latitude du cercle arctique
C22: + correction bug midi indiqué la nuit
C23: + correction bug calcul lever et coucher de soleil si jour ou nuit >24h
C24: + correction bug pole nord
